BEGIN:VCALENDAR
VERSION:2.0
CALSCALE:GREGORIAN
METHOD:PUBLISH
PRODID:-//rspe-website//EN
BEGIN:VEVENT
UID:RSPE857
DTSTART;TZID=Australia/Sydney:20180607T110000
DTEND;TZID=Australia/Sydney:20180607T120000
CREATED;TZID=Australia/Sydney:20260423T203347
LOCATION:Building 60, Oliphant Seminar Room
SUMMARY:Departmental Seminar Non-Euclidean virtual reality Sabetta Matsumoto
URL;VALUE=URI:https://physics.anu.edu.au/events?EventID=857
SEQUENCE:0
END:VEVENT
END:VCALENDAR
