BEGIN:VCALENDAR
VERSION:2.0
CALSCALE:GREGORIAN
METHOD:PUBLISH
PRODID:-//rspe-website//EN
BEGIN:VEVENT
UID:RSPE734
DTSTART;TZID=Australia/Sydney:20171030T110000
DTEND;TZID=Australia/Sydney:20171030T120000
CREATED;TZID=Australia/Sydney:20260424T025221
LOCATION:Building 60, RSPE Seminar Room (414)
SUMMARY:Mid Term Review Morphological control and characterization of InP nanostructures grown by selective area epitaxy Naiyin Wang
URL;VALUE=URI:https://physics.anu.edu.au/events?EventID=734
SEQUENCE:0
END:VEVENT
END:VCALENDAR
