BEGIN:VCALENDAR
VERSION:2.0
CALSCALE:GREGORIAN
METHOD:PUBLISH
PRODID:-//rspe-website//EN
BEGIN:VEVENT
UID:RSPE732
DTSTART;TZID=Australia/Sydney:20171103T110000
DTEND;TZID=Australia/Sydney:20171103T120000
CREATED;TZID=Australia/Sydney:20260423T220029
LOCATION:Building 60, Oliphant Seminar
SUMMARY:Departmental Seminar Plasmonic Nanoparticles and Metasurfaces for Molecular Analysis Mikael Kall
URL;VALUE=URI:https://physics.anu.edu.au/events?EventID=732
SEQUENCE:0
END:VEVENT
END:VCALENDAR
