BEGIN:VCALENDAR
VERSION:2.0
CALSCALE:GREGORIAN
METHOD:PUBLISH
PRODID:-//rspe-website//EN
BEGIN:VEVENT
UID:RSPE681
DTSTART;TZID=Australia/Sydney:20171012T110000
DTEND;TZID=Australia/Sydney:20171012T123000
CREATED;TZID=Australia/Sydney:20260424T094224
LOCATION:Building 60, RSPE Seminar Room
SUMMARY:Final PhD Seminar Managing light in engineered nonlinear optical structures Xin Chen
URL;VALUE=URI:https://physics.anu.edu.au/events?EventID=681
SEQUENCE:0
END:VEVENT
END:VCALENDAR
