BEGIN:VCALENDAR
VERSION:2.0
CALSCALE:GREGORIAN
METHOD:PUBLISH
PRODID:-//rspe-website//EN
BEGIN:VEVENT
UID:RSPE1470
DTSTART;TZID=Australia/Sydney:20240605T110000
DTEND;TZID=Australia/Sydney:20240605T120000
CREATED;TZID=Australia/Sydney:20260423T203357
LOCATION:Building 160, Conference Room (4.03)
SUMMARY:Departmental Seminar Plasma technology: Assisting the energy transition Cormac Corr
URL;VALUE=URI:https://physics.anu.edu.au/events?EventID=1470
SEQUENCE:0
END:VEVENT
END:VCALENDAR
