BEGIN:VCALENDAR
VERSION:2.0
CALSCALE:GREGORIAN
METHOD:PUBLISH
PRODID:-//rspe-website//EN
BEGIN:VEVENT
UID:RSPE1465
DTSTART;TZID=Australia/Sydney:20240529T090000
DTEND;TZID=Australia/Sydney:20240529T100000
CREATED;TZID=Australia/Sydney:20260423T203407
LOCATION:Building 38A, Physics Studio
SUMMARY:Departmental Seminar Searching for gravitational waves from ultralight vector boson clouds Dana Jones
URL;VALUE=URI:https://physics.anu.edu.au/events?EventID=1465
SEQUENCE:0
END:VEVENT
END:VCALENDAR
