BEGIN:VCALENDAR
VERSION:2.0
CALSCALE:GREGORIAN
METHOD:PUBLISH
PRODID:-//rspe-website//EN
BEGIN:VEVENT
UID:RSPE121
DTSTART;TZID=Australia/Sydney:20130729T110000
DTEND;TZID=Australia/Sydney:20130729T123000
CREATED;TZID=Australia/Sydney:20260424T094224
LOCATION:Building , 
SUMMARY:Departmental Seminar sensitive isotope tracing
 Rajeev Lal
URL;VALUE=URI:https://physics.anu.edu.au/events?EventID=121
SEQUENCE:0
END:VEVENT
END:VCALENDAR
