BEGIN:VCALENDAR
VERSION:2.0
CALSCALE:GREGORIAN
METHOD:PUBLISH
PRODID:-//rspe-website//EN
BEGIN:VEVENT
UID:RSPE120
DTSTART;TZID=Australia/Sydney:20130802T110000
DTEND;TZID=Australia/Sydney:20130802T123000
CREATED;TZID=Australia/Sydney:20260423T220029
LOCATION:Building , 
SUMMARY:Departmental Seminar Isomers in storage rings: the case of 212Bi Phil Walker
URL;VALUE=URI:https://physics.anu.edu.au/events?EventID=120
SEQUENCE:0
END:VEVENT
END:VCALENDAR
