BEGIN:VCALENDAR
VERSION:2.0
CALSCALE:GREGORIAN
METHOD:PUBLISH
PRODID:-//rspe-website//EN
BEGIN:VEVENT
UID:RSPE150
DTSTART;TZID=Australia/Sydney:20131204T140000
DTEND;TZID=Australia/Sydney:20131204T150000
CREATED;TZID=Australia/Sydney:20260423T191140
LOCATION:Building , 
SUMMARY:Departmental Seminar Multi-time Lagrangian 1-forms for families of BÃ¤cklund transformations.
Relativistic Toda-type systems Raphael Boll
URL;VALUE=URI:https://physics.anu.edu.au/events?EventID=150
SEQUENCE:0
END:VEVENT
END:VCALENDAR
