BEGIN:VCALENDAR
VERSION:2.0
CALSCALE:GREGORIAN
METHOD:PUBLISH
PRODID:-//rspe-website//EN
BEGIN:VEVENT
UID:RSPE133
DTSTART;TZID=Australia/Sydney:20130916T110000
DTEND;TZID=Australia/Sydney:20130916T123000
CREATED;TZID=Australia/Sydney:20260423T191633
LOCATION:Building , 
SUMMARY:Departmental Seminar Study of reactions with the weakly bound projectile 9Be C. Palshetkar
URL;VALUE=URI:https://physics.anu.edu.au/events?EventID=133
SEQUENCE:0
END:VEVENT
END:VCALENDAR
