BEGIN:VCALENDAR
VERSION:2.0
CALSCALE:GREGORIAN
METHOD:PUBLISH
PRODID:-//rspe-website//EN
BEGIN:VEVENT
UID:RSPE1194
DTSTART;TZID=Australia/Sydney:20210428T140000
DTEND;TZID=Australia/Sydney:20210428T150000
CREATED;TZID=Australia/Sydney:20260424T045815
LOCATION:Building , 
SUMMARY:School Seminar Program Plasmas: from Solar to Cellular Christine Charles
URL;VALUE=URI:https://physics.anu.edu.au/events?EventID=1194
SEQUENCE:0
END:VEVENT
END:VCALENDAR
