BEGIN:VCALENDAR
VERSION:2.0
CALSCALE:GREGORIAN
METHOD:PUBLISH
PRODID:-//rspe-website//EN
BEGIN:VEVENT
UID:RSPE110
DTSTART;TZID=Australia/Sydney:20130704T120000
DTEND;TZID=Australia/Sydney:20130704T130000
CREATED;TZID=Australia/Sydney:20260423T221045
LOCATION:Building , 
SUMMARY:Director's Colloquium The Higgs anniversary:  Unification, The Standard Model and the Greatest Story Ever Told.. so far Lawrence Krauss
URL;VALUE=URI:https://physics.anu.edu.au/events?EventID=110
SEQUENCE:0
END:VEVENT
END:VCALENDAR
